BEGIN:VCALENDAR
VERSION:2.0
PRODID:-//Wrekinsport Cycling Club - ECPv6.15.20//NONSGML v1.0//EN
CALSCALE:GREGORIAN
METHOD:PUBLISH
X-WR-CALNAME:Wrekinsport Cycling Club
X-ORIGINAL-URL:https://wrekinsport.co.uk
X-WR-CALDESC:Events for Wrekinsport Cycling Club
REFRESH-INTERVAL;VALUE=DURATION:PT1H
X-Robots-Tag:noindex
X-PUBLISHED-TTL:PT1H
BEGIN:VTIMEZONE
TZID:Europe/London
BEGIN:DAYLIGHT
TZOFFSETFROM:+0000
TZOFFSETTO:+0100
TZNAME:BST
DTSTART:20240331T010000
END:DAYLIGHT
BEGIN:STANDARD
TZOFFSETFROM:+0100
TZOFFSETTO:+0000
TZNAME:GMT
DTSTART:20241027T010000
END:STANDARD
BEGIN:DAYLIGHT
TZOFFSETFROM:+0000
TZOFFSETTO:+0100
TZNAME:BST
DTSTART:20250330T010000
END:DAYLIGHT
BEGIN:STANDARD
TZOFFSETFROM:+0100
TZOFFSETTO:+0000
TZNAME:GMT
DTSTART:20251026T010000
END:STANDARD
BEGIN:DAYLIGHT
TZOFFSETFROM:+0000
TZOFFSETTO:+0100
TZNAME:BST
DTSTART:20260329T010000
END:DAYLIGHT
BEGIN:STANDARD
TZOFFSETFROM:+0100
TZOFFSETTO:+0000
TZNAME:GMT
DTSTART:20261025T010000
END:STANDARD
END:VTIMEZONE
BEGIN:VEVENT
DTSTART;TZID=Europe/London:20250615T093000
DTEND;TZID=Europe/London:20250615T140000
DTSTAMP:20260423T000327
CREATED:20250421T114324Z
LAST-MODIFIED:20250613T202029Z
UID:1272-1749979800-1749996000@wrekinsport.co.uk
SUMMARY:Wrekinsport Charity Sportive on behalf of Severn Hospice
DESCRIPTION:A charity Sportive on behalf of Severn Hospice \nSunday June 15th \nDepart Wellington Civic Centre 09:30 \nNote there is a long stay free carpark opposite the civic centre. \n£5 Suggested donation for long route which includes free coffee and cake at Welshampton Parish Hall \nDonations welcome for the short route \nRide at your own pace or join one of our paced led Groups. \nThis is not a race and is ridden on open roads and at your own risk. For your safety we recommend the use of front and rear lights. Undoubtedly there  will be potholes so please call them out to fellow riders and finally remember to be courteous and respectful to other road users. But most importantly enjoy the ride\, \nLong Route – Welshampton 57 miles gpx link \nhttps://connect.garmin.com/modern/course/348385189 \n  \nShort Route – Sleap Airfield 36 mile gpx link \nhttps://connect.garmin.com/modern/course/367803607
URL:https://wrekinsport.co.uk/event/wrekinsport-charity-sportive-on-behalf-of-severn-hospice/
LOCATION:Wellington Civic & Leisure Centre\, Tan Bank\, Wellington\, Shropshire\, TF1 1LX\, United Kingdom
END:VEVENT
END:VCALENDAR